BEGIN:VCALENDAR
VERSION:2.0
PRODID:-//193.141.3.69//NONSGML kigkonsult.se iCalcreator 2.20//
CALSCALE:GREGORIAN
METHOD:PUBLISH
X-WR-TIMEZONE:UTC
BEGIN:VEVENT
UID:event1177@Sarará - Samba Percussion aus Regensburg
DTSTAMP:20260422T084851Z
CATEGORIES:Event
DESCRIPTION:Spindellauf im DEZ\nKategorie: Event\nICS-Link: https://www.sar
 ara.de/index.php?option=com_jem&view=event&id=1177:spindellauf-im-dez\n
DTSTART:20260110T203000Z
DTEND:20260110T230000Z
LOCATION:Regensburg Donaueinkaufszentrum\,Regensburg
SUMMARY:Spindellauf im DEZ
URL:https://www.sarara.de/index.php?option=com_jem&view=event&id=1177:spind
 ellauf-im-dez
END:VEVENT
END:VCALENDAR
