BEGIN:VCALENDAR
VERSION:2.0
PRODID:-//193.141.3.69//NONSGML kigkonsult.se iCalcreator 2.20//
CALSCALE:GREGORIAN
METHOD:PUBLISH
X-WR-TIMEZONE:UTC
BEGIN:VEVENT
UID:event1092@Sarará - Samba Percussion aus Regensburg
DTSTAMP:20260419T172454Z
CATEGORIES:Workshop
DESCRIPTION:Schnupper-Workshop\nKategorie: Workshop\nICS-Link: https://www.
 sarara.de/index.php?option=com_jem&view=event&id=1092:schnupper-workshop\n
DTSTART:20250316T130000Z
DTEND:20250316T170000Z
LOCATION:Kulturzentrum Alte Mälzerei\,Galgenbergstr. 20\,93053 Regensburg
SUMMARY:Schnupper-Workshop
URL:https://www.sarara.de/index.php?option=com_jem&view=event&id=1092:schnu
 pper-workshop
END:VEVENT
END:VCALENDAR
